BEGIN:VCALENDAR
VERSION:2.0
PRODID:-//All Around Math - ECPv5.1.4//NONSGML v1.0//EN
CALSCALE:GREGORIAN
METHOD:PUBLISH
X-WR-CALNAME:All Around Math
X-ORIGINAL-URL:https://allaroundmath.com
X-WR-CALDESC:Events for All Around Math
BEGIN:VTIMEZONE
TZID:America/Phoenix
BEGIN:STANDARD
TZOFFSETFROM:-0700
TZOFFSETTO:-0700
TZNAME:MST
DTSTART:20150101T000000
END:STANDARD
END:VTIMEZONE
BEGIN:VEVENT
DTSTART;VALUE=DATE:20150608
DTEND;VALUE=DATE:20150609
DTSTAMP:20260420T174336
CREATED:20150605T223832Z
LAST-MODIFIED:20150610T055841Z
UID:2348-1433721600-1433807999@allaroundmath.com
SUMMARY:Mesa Campus - Senior Camps Ages: 8-14
DESCRIPTION:9am-Noon: Robotics I & II \n1pm-4pm: Eager Engineering \n
URL:https://allaroundmath.com/event/senior-camps-ages-8-14/
LOCATION:All Around Learning Center – Mesa Campus\, 4135 S Power Rd #112\, Mesa\, AZ\, 85212\, United States
CATEGORIES:Green: Senior Camps Ages: 8-14
END:VEVENT
END:VCALENDAR