BEGIN:VCALENDAR
VERSION:2.0
PRODID:-//All Around Math - ECPv5.1.4//NONSGML v1.0//EN
CALSCALE:GREGORIAN
METHOD:PUBLISH
X-WR-CALNAME:All Around Math
X-ORIGINAL-URL:https://allaroundmath.com
X-WR-CALDESC:Events for All Around Math
BEGIN:VTIMEZONE
TZID:America/Phoenix
BEGIN:STANDARD
TZOFFSETFROM:-0700
TZOFFSETTO:-0700
TZNAME:MST
DTSTART:20150101T000000
END:STANDARD
END:VTIMEZONE
BEGIN:VEVENT
DTSTART;VALUE=DATE:20150727
DTEND;VALUE=DATE:20150728
DTSTAMP:20260420T141822
CREATED:20150605T223839Z
LAST-MODIFIED:20150610T055422Z
UID:2367-1437955200-1438041599@allaroundmath.com
SUMMARY:Tempe Campus - Senior Camps Ages: 8-14
DESCRIPTION:9am-Noon: Minecraft Week B \n1pm-4pm: Computer Game Design II\, Robotics I & II \n
URL:https://allaroundmath.com/event/senior-camps-ages-8-14-7/
LOCATION:Tempe Campus – Bethany Christian School\, 6304 S Price Rd\,  Tempe\, AZ\, 85283\, United States
CATEGORIES:Green: Senior Camps Ages: 8-14
END:VEVENT
END:VCALENDAR