BEGIN:VCALENDAR
VERSION:2.0
PRODID:-//All Around Math - ECPv5.1.4//NONSGML v1.0//EN
CALSCALE:GREGORIAN
METHOD:PUBLISH
X-WR-CALNAME:All Around Math
X-ORIGINAL-URL:https://allaroundmath.com
X-WR-CALDESC:Events for All Around Math
BEGIN:VTIMEZONE
TZID:America/Phoenix
BEGIN:STANDARD
TZOFFSETFROM:-0700
TZOFFSETTO:-0700
TZNAME:MST
DTSTART:20150101T000000
END:STANDARD
END:VTIMEZONE
BEGIN:VEVENT
DTSTART;VALUE=DATE:20150720
DTEND;VALUE=DATE:20150721
DTSTAMP:20260420T141821
CREATED:20150605T223839Z
LAST-MODIFIED:20150610T055446Z
UID:2365-1437350400-1437436799@allaroundmath.com
SUMMARY:Tempe Campus - Senior Camps Ages: 8-14
DESCRIPTION:9am-Noon: Minecraft Week A\, Robotics I & II \n1pm-4pm: Computer Game Design I \n
URL:https://allaroundmath.com/event/senior-camps-ages-8-14-6/
LOCATION:Tempe Campus – Bethany Christian School\, 6304 S Price Rd\,  Tempe\, AZ\, 85283\, United States
CATEGORIES:Green: Senior Camps Ages: 8-14
END:VEVENT
END:VCALENDAR