BEGIN:VCALENDAR
VERSION:2.0
PRODID:-//All Around Math - ECPv5.1.4//NONSGML v1.0//EN
CALSCALE:GREGORIAN
METHOD:PUBLISH
X-WR-CALNAME:All Around Math
X-ORIGINAL-URL:https://allaroundmath.com
X-WR-CALDESC:Events for All Around Math
BEGIN:VTIMEZONE
TZID:UTC
BEGIN:STANDARD
TZOFFSETFROM:+0000
TZOFFSETTO:+0000
TZNAME:UTC
DTSTART:20160101T000000
END:STANDARD
END:VTIMEZONE
BEGIN:VEVENT
DTSTART;VALUE=DATE:20160606
DTEND;VALUE=DATE:20160611
DTSTAMP:20260420T084334
CREATED:20160323T034456Z
LAST-MODIFIED:20160323T045400Z
UID:2837-1465171200-1465603199@allaroundmath.com
SUMMARY:All Around Learning Center - Tempe Campus
DESCRIPTION: \nJunior Camps  \n(Age 4-6) \n9am-Noon: Jr Art/Music \n1pm-4pm: Jr LEGO Technology \n  \nIntermediate Camps  \n(Age 6-9) \n9am-Noon:My 1st Robotics (Age 6-8) \n1pm-4pm: My 1st Minecraft A (Age 6-9) \n  \nSenior Camps  \n(Age 6-9) \n9am-Noon: Robotics I\, II (Age 8-14); Minecraft A (Age 9-14) \n1pm-4pm: Eager Engineer (Age 8-14); Computer Game Design I (9-14) \n  \nImprove Your Skills \n9am-Noon: Improve Your Skills \n
URL:https://allaroundmath.com/event/all-around-learning-center-tempe-campus/
LOCATION:Tempe Campus – Bethany Christian School\, 6304 S Price Rd\,  Tempe\, AZ\, 85283\, United States
CATEGORIES:Blue: Tempe
END:VEVENT
END:VCALENDAR